BEGIN:VCALENDAR
VERSION:2.0
PRODID:-//Groß Bültener Hof - ECPv6.15.20//NONSGML v1.0//EN
CALSCALE:GREGORIAN
METHOD:PUBLISH
X-ORIGINAL-URL:https://www.gross-bueltener-hof.de
X-WR-CALDESC:Veranstaltungen für Groß Bültener Hof
REFRESH-INTERVAL;VALUE=DURATION:PT1H
X-Robots-Tag:noindex
X-PUBLISHED-TTL:PT1H
BEGIN:VTIMEZONE
TZID:Europe/Berlin
BEGIN:DAYLIGHT
TZOFFSETFROM:+0100
TZOFFSETTO:+0200
TZNAME:CEST
DTSTART:20240331T010000
END:DAYLIGHT
BEGIN:STANDARD
TZOFFSETFROM:+0200
TZOFFSETTO:+0100
TZNAME:CET
DTSTART:20241027T010000
END:STANDARD
BEGIN:DAYLIGHT
TZOFFSETFROM:+0100
TZOFFSETTO:+0200
TZNAME:CEST
DTSTART:20250330T010000
END:DAYLIGHT
BEGIN:STANDARD
TZOFFSETFROM:+0200
TZOFFSETTO:+0100
TZNAME:CET
DTSTART:20251026T010000
END:STANDARD
BEGIN:DAYLIGHT
TZOFFSETFROM:+0100
TZOFFSETTO:+0200
TZNAME:CEST
DTSTART:20260329T010000
END:DAYLIGHT
BEGIN:STANDARD
TZOFFSETFROM:+0200
TZOFFSETTO:+0100
TZNAME:CET
DTSTART:20261025T010000
END:STANDARD
END:VTIMEZONE
BEGIN:VEVENT
DTSTART;TZID=Europe/Berlin:20250418T113000
DTEND;TZID=Europe/Berlin:20250418T140000
DTSTAMP:20260422T140841
CREATED:20250308T072611Z
LAST-MODIFIED:20250308T151403Z
UID:4827-1744975800-1744984800@www.gross-bueltener-hof.de
SUMMARY:Karfreitag: Traditionelles Fischbuffet der Extraklasse
DESCRIPTION:Genießen Sie am Karfreitag unser reichhaltiges \nFischbuffet\,\ndas keine Wünsche offen lässt. Freuen Sie sich auf fangfrische Köstlichkeiten aus dem Meer. Lassen Sie sich von der Vielfalt und Frische unseres Fischbuffets verzaubern.\n\nGemütliche und festliche Atmosphäre für die ganze Familie.\nUnsere Buffets finden jeweils von 11:30 Uhr bis 14:00 Uhr statt. \nKosten: 32\,50 € pro Person \nReservierung:\nSichern Sie sich jetzt Ihren Platz für ein unvergessliches Ostermahl! Reservieren Sie telefonisch unter 05172-412898 oder per E-Mail an info@gross-bueltener-hof.de. \nWir freuen uns darauf\, Sie an den Osterfeiertagen bei uns begrüßen zu dürfen! \nIhr Team vom Groß Bültener Hof
URL:https://www.gross-bueltener-hof.de/events/karfreitag-traditionelles-fischbuffet-der-extraklasse/
LOCATION:Groß Bültener Hof\, Triftweg 2\, Ilsede\, Niedersachsen\, 31241\, Deutschland
ATTACH;FMTTYPE=image/jpeg:https://www.gross-bueltener-hof.de/wp-content/uploads/2025/03/Fischbuffet-3-3.jpg
ORGANIZER;CN="Gro%C3%9F B%C3%BCltener Hof - Hotel & Restaurant":MAILTO:info@gross-bueltener-hof.de
END:VEVENT
BEGIN:VEVENT
DTSTART;TZID=Europe/Berlin:20250420T113000
DTEND;TZID=Europe/Berlin:20250420T140000
DTSTAMP:20260422T140841
CREATED:20250308T073358Z
LAST-MODIFIED:20250309T142615Z
UID:4834-1745148600-1745157600@www.gross-bueltener-hof.de
SUMMARY:Ostersonntag:Festliches Spargelbuffet
DESCRIPTION:An den Ostertagen erwartet Sie ein besonderes Highlight: Unser festliches Spargelbuffet in gemütlicher Atmosphäre. \nFreuen Sie sich auf frischen\, regionalen Spargel. Herzhafte und leichte Beilagen. Passend zum Spargel\, mit Fleisch\, Fisch oder vegetarisch.\nEin österliches Geschmackserlebnis: Genießen Sie die Frühlingsboten in vollen Zügen \nGemütliche und festliche Atmosphäre für die ganze Familie.\nUnsere Buffets finden jeweils von 11:30 Uhr bis 14:00 Uhr statt. \nOstersonntag & Ostermontag: Spargelbuffet | 36\,50 € pro Person \n  \nReservierung:\nSichern Sie sich jetzt Ihren Platz für ein unvergessliches Ostermahl! Reservieren Sie telefonisch unter 05172-412898 oder per E-Mail an info@gross-bueltener-hof.de. \nWir freuen uns darauf\, Sie an den Osterfeiertagen bei uns begrüßen zu dürfen! \nIhr Team vom Groß Bültener Hof
URL:https://www.gross-bueltener-hof.de/events/ostersonntag-20-april-2025-ostermontag-21-april-2025-festliches-spargelbuffet/
LOCATION:Groß Bültener Hof\, Triftweg 2\, Ilsede\, Niedersachsen\, 31241\, Deutschland
ATTACH;FMTTYPE=image/jpeg:https://www.gross-bueltener-hof.de/wp-content/uploads/2025/03/Ostern-3-3.jpg
ORGANIZER;CN="Gro%C3%9F B%C3%BCltener Hof - Hotel & Restaurant":MAILTO:info@gross-bueltener-hof.de
END:VEVENT
BEGIN:VEVENT
DTSTART;TZID=Europe/Berlin:20250421T113000
DTEND;TZID=Europe/Berlin:20250421T140000
DTSTAMP:20260422T140841
CREATED:20250308T073806Z
LAST-MODIFIED:20250309T142708Z
UID:4838-1745235000-1745244000@www.gross-bueltener-hof.de
SUMMARY:Ostermontag:Festliches Spargelbuffet
DESCRIPTION:An den Ostertagen erwartet Sie ein besonderes Highlight: Unser festliches Spargelbuffet in gemütlicher Atmosphäre. \nFreuen Sie sich auf frischen\, regionalen Spargel. Herzhafte und leichte Beilagen. Passend zum Spargel\, mit Fleisch\, Fisch oder vegetarisch.\nEin österliches Geschmackserlebnis: Genießen Sie die Frühlingsboten in vollen Zügen \nGemütliche und festliche Atmosphäre für die ganze Familie.\nUnsere Buffets finden jeweils von 11:30 Uhr bis 14:00 Uhr statt. \nOstersonntag & Ostermontag: Spargelbuffet | 36\,50 € pro Person \n  \nReservierung:\nSichern Sie sich jetzt Ihren Platz für ein unvergessliches Ostermahl! Reservieren Sie telefonisch unter 05172-412898 oder per E-Mail an info@gross-bueltener-hof.de. \nWir freuen uns darauf\, Sie an den Osterfeiertagen bei uns begrüßen zu dürfen! \nIhr Team vom Groß Bültener Hof
URL:https://www.gross-bueltener-hof.de/events/ostermontag-21-april-2025festliches-spargelbuffet/
LOCATION:Groß Bültener Hof\, Triftweg 2\, Ilsede\, Niedersachsen\, 31241\, Deutschland
ATTACH;FMTTYPE=image/jpeg:https://www.gross-bueltener-hof.de/wp-content/uploads/2025/03/Ostern-3-3.jpg
ORGANIZER;CN="Gro%C3%9F B%C3%BCltener Hof - Hotel & Restaurant":MAILTO:info@gross-bueltener-hof.de
END:VEVENT
BEGIN:VEVENT
DTSTART;TZID=Europe/Berlin:20250422T140000
DTEND;TZID=Europe/Berlin:20250426T000000
DTSTAMP:20260422T140841
CREATED:20250312T124536Z
LAST-MODIFIED:20250312T125102Z
UID:4852-1745330400-1745625600@www.gross-bueltener-hof.de
SUMMARY:Spargelbuffet
DESCRIPTION:Spargelzeit ist Genusszeit! \nAb 22. April 2025 heißt es im Groß Bültener Hof wieder: Spargel satt! \nFreuen Sie sich auf unser wöchentliches Spargelbuffet mit allen erdenklichen Köstlichkeiten rund um das königliche Gemüse. \nGenießen Sie:\nSpargel\, klassisch oder modern zubereitet\nFeine Saucen und Beilagen\nLeckere Desserts mit Spargel \nUnser Spargelbuffet ist immer Dienstag bis Samstag ab 18:00 Uhr und Sonntags ab 11:30 Uhr für Sie geöffnet. Preis pro Person ohne Getränke € 29\,90 \nReservieren Sie Ihren Tisch am besten gleich online oder telefonisch unter 05172-412898 \nWir freuen uns auf Ihren Besuch!\nIhr Team vom Groß Bültener Hof
URL:https://www.gross-bueltener-hof.de/events/spargelbuffet-19/
LOCATION:Groß Bültener Hof\, Triftweg 2\, Ilsede\, Niedersachsen\, 31241\, Deutschland
ATTACH;FMTTYPE=image/jpeg:https://www.gross-bueltener-hof.de/wp-content/uploads/2025/03/Ostern-3-3.jpg
ORGANIZER;CN="Gro%C3%9F B%C3%BCltener Hof - Hotel & Restaurant":MAILTO:info@gross-bueltener-hof.de
END:VEVENT
BEGIN:VEVENT
DTSTART;TZID=Europe/Berlin:20250427T113000
DTEND;TZID=Europe/Berlin:20250427T113000
DTSTAMP:20260422T140841
CREATED:20250312T124920Z
LAST-MODIFIED:20250312T142609Z
UID:4854-1745753400-1745753400@www.gross-bueltener-hof.de
SUMMARY:Spargelbuffet
DESCRIPTION:Spargelzeit ist Genusszeit! \nAb 22. April 2025 heißt es im Groß Bültener Hof wieder: Spargel satt! \nFreuen Sie sich auf unser wöchentliches Spargelbuffet mit allen erdenklichen Köstlichkeiten rund um das königliche Gemüse. \nGenießen Sie:\nSpargel\, klassisch oder modern zubereitet\nFeine Saucen und Beilagen\nLeckere Desserts mit Spargel \nUnser Spargelbuffet ist immer Dienstag bis Samstag ab 18:00 Uhr und Sonntags ab 11:30 Uhr\, sowie 17:30 bis 20:00 Uhr für Sie geöffnet. Preis pro Person ohne Getränke € 29\,90 \nReservieren Sie Ihren Tisch am besten gleich online oder telefonisch unter 05172-412898 \nWir freuen uns auf Ihren Besuch!\nIhr Team vom Groß Bültener Hof
URL:https://www.gross-bueltener-hof.de/events/spargelbuffet-20/
LOCATION:Groß Bültener Hof\, Triftweg 2\, Ilsede\, Niedersachsen\, 31241\, Deutschland
ATTACH;FMTTYPE=image/jpeg:https://www.gross-bueltener-hof.de/wp-content/uploads/2025/03/Ostern-3-3.jpg
ORGANIZER;CN="Gro%C3%9F B%C3%BCltener Hof - Hotel & Restaurant":MAILTO:info@gross-bueltener-hof.de
END:VEVENT
BEGIN:VEVENT
DTSTART;TZID=Europe/Berlin:20250429T180000
DTEND;TZID=Europe/Berlin:20250503T000000
DTSTAMP:20260422T140841
CREATED:20250312T125420Z
LAST-MODIFIED:20250312T125420Z
UID:4856-1745949600-1746230400@www.gross-bueltener-hof.de
SUMMARY:Spargelbuffet
DESCRIPTION:Spargelzeit ist Genusszeit! \nAb 22. April 2025 heißt es im Groß Bültener Hof wieder: Spargel satt! \nFreuen Sie sich auf unser wöchentliches Spargelbuffet mit allen erdenklichen Köstlichkeiten rund um das königliche Gemüse. \nGenießen Sie:\nSpargel\, klassisch oder modern zubereitet\nFeine Saucen und Beilagen\nLeckere Desserts mit Spargel \nUnser Spargelbuffet ist immer Dienstag bis Samstag ab 18:00 Uhr und Sonntags ab 11:30 Uhr für Sie geöffnet. Preis pro Person ohne Getränke € 29\,90 \nReservieren Sie Ihren Tisch am besten gleich online oder telefonisch unter 05172-412898 \nWir freuen uns auf Ihren Besuch!\nIhr Team vom Groß Bültener Hof
URL:https://www.gross-bueltener-hof.de/events/spargelbuffet-21/
LOCATION:Groß Bültener Hof\, Triftweg 2\, Ilsede\, Niedersachsen\, 31241\, Deutschland
ATTACH;FMTTYPE=image/jpeg:https://www.gross-bueltener-hof.de/wp-content/uploads/2025/03/Ostern-3-3.jpg
ORGANIZER;CN="Gro%C3%9F B%C3%BCltener Hof - Hotel & Restaurant":MAILTO:info@gross-bueltener-hof.de
END:VEVENT
END:VCALENDAR